BEGIN:VCALENDAR
VERSION:2.0
PRODID://en-racine
BEGIN:VEVENT
DESCRIPTION:Réunion de présentation de Luminis\r\n\r\nSamedi 7 Septembre - 20h00\r\n\r\n🍻 S'ensuivra d'une soirée conviviale\r\n\r\n📩 Questions et inscription en MP\n\norganisé par:\n- Luminis
DTEND:20240907T200000Z
LOCATION:Paris
DTSTART:20240907T180000Z
SUMMARY:Réunion de rentrée
TRANSP:TRANSPARENT
UID:13@en-racine.org
URL:https://en-racine.org/evenement/13-reunion-de-rentree/
END:VEVENT
END:VCALENDAR